BEGIN:VCALENDAR
VERSION:2.0
PRODID:-//Grüne Vorpommern-Greifswald - ECPv6.15.20//NONSGML v1.0//EN
CALSCALE:GREGORIAN
METHOD:PUBLISH
X-WR-CALNAME:Grüne Vorpommern-Greifswald
X-ORIGINAL-URL:https://gruene-vorpommern-greifswald.de
X-WR-CALDESC:Veranstaltungen für Grüne Vorpommern-Greifswald
REFRESH-INTERVAL;VALUE=DURATION:PT1H
X-Robots-Tag:noindex
X-PUBLISHED-TTL:PT1H
BEGIN:VTIMEZONE
TZID:Europe/Berlin
BEGIN:DAYLIGHT
TZOFFSETFROM:+0100
TZOFFSETTO:+0200
TZNAME:CEST
DTSTART:20240331T010000
END:DAYLIGHT
BEGIN:STANDARD
TZOFFSETFROM:+0200
TZOFFSETTO:+0100
TZNAME:CET
DTSTART:20241027T010000
END:STANDARD
BEGIN:DAYLIGHT
TZOFFSETFROM:+0100
TZOFFSETTO:+0200
TZNAME:CEST
DTSTART:20250330T010000
END:DAYLIGHT
BEGIN:STANDARD
TZOFFSETFROM:+0200
TZOFFSETTO:+0100
TZNAME:CET
DTSTART:20251026T010000
END:STANDARD
BEGIN:DAYLIGHT
TZOFFSETFROM:+0100
TZOFFSETTO:+0200
TZNAME:CEST
DTSTART:20260329T010000
END:DAYLIGHT
BEGIN:STANDARD
TZOFFSETFROM:+0200
TZOFFSETTO:+0100
TZNAME:CET
DTSTART:20261025T010000
END:STANDARD
END:VTIMEZONE
BEGIN:VEVENT
DTSTART;TZID=Europe/Berlin:20250812T190000
DTEND;TZID=Europe/Berlin:20250812T230000
DTSTAMP:20260422T050145
CREATED:20250806T200545Z
LAST-MODIFIED:20250806T200609Z
UID:6125-1755025200-1755039600@gruene-vorpommern-greifswald.de
SUMMARY:Sommertour Hannes Damm
DESCRIPTION:Im Rahmen seiner Sommertour macht Hannes am Dienstag\, den 12. August\, Halt in Greifswald – und freut sich natürlich besonders darauf\, euch zu treffen!\n\nEr lädt euch daher herzlich ein\, ab 19 Uhr auf der Wiese am Ryck neben dem Tierpark gemeinsam zu spielen\, zu entspannen und das ein oder andere Spaßgetränk zu genießen. \nFür Getränke ist gesorgt – bringt gerne eine Picknickdecke und vielleicht euer Lieblingsspiel mit. Euch erwartet ein entspannter Sommerabend mit grünen Gesprächen\, guter Laune und Hannes mittendrin. \nKommt vorbei – Hannes freut sich auf euch!
URL:https://gruene-vorpommern-greifswald.de/veranstaltungen/sommertour-hannes-damm/
LOCATION:Credner-Anlagen\, Wollweberstraße 1\, Greifswald\, Mecklenburg-Vorpommern\, 17489\, Germany
CATEGORIES:Kreisvorstand
END:VEVENT
BEGIN:VEVENT
DTSTART;TZID=Europe/Berlin:20250816T183000
DTEND;TZID=Europe/Berlin:20250816T230000
DTSTAMP:20260422T050145
CREATED:20250807T182632Z
LAST-MODIFIED:20250807T182632Z
UID:6134-1755369000-1755385200@gruene-vorpommern-greifswald.de
SUMMARY:Abendbrotschnack mit Heiko Knopf
DESCRIPTION:Wir laden euch herzlich ein zum Abendbrotschnack mit Heiko Knopf\, dem stellvertretenden Bundesvorsitzenden von Bündnis 90/Die Grünen\, am 16. August\, um 18.30 Uhr im Grünen Büro.\n \nIn entspannter Runde bei Brot und Aufstrich wollen wir mit Heiko ins Gespräch kommen: unsere Rolle als Partei im Osten und darüber\, wie wir in ländlichen Räumen präsenter sein können.\n \nKommt vorbei\, bringt eure Fragen mit – wir freuen uns auf einen spannenden Abend mit euch!\n \nWir freuen uns auf eure Teilnahme!
URL:https://gruene-vorpommern-greifswald.de/veranstaltungen/abendbrotschnack-mit-heiko-knopf/
LOCATION:Grünes Büro Greifswald\, Mühlenstraße 25-26\, Greifswald\, 17489\, Germany
CATEGORIES:Kreisvorstand
END:VEVENT
BEGIN:VEVENT
DTSTART;TZID=Europe/Berlin:20250822T180000
DTEND;TZID=Europe/Berlin:20250822T230000
DTSTAMP:20260422T050145
CREATED:20250806T201118Z
LAST-MODIFIED:20250806T201252Z
UID:6129-1755885600-1755903600@gruene-vorpommern-greifswald.de
SUMMARY:Abendbrotschnack Katharina Horn 
DESCRIPTION:Abendbrotschnack mit Katharina im Greifswalder Museumshafen (und bei schlechtem Wetter im Grünen Büro Greifswald)
URL:https://gruene-vorpommern-greifswald.de/veranstaltungen/abendbrotschnack-katharina-horn/
LOCATION:Museumshafen Greifswald\, Hafenstraße 31\, Greifswald\, Mecklenburg-Vorpommern\, 17489
CATEGORIES:Kreisvorstand
END:VEVENT
END:VCALENDAR