BEGIN:VCALENDAR
VERSION:2.0
PRODID:-//Grüne Vorpommern-Greifswald - ECPv6.15.20//NONSGML v1.0//EN
CALSCALE:GREGORIAN
METHOD:PUBLISH
X-ORIGINAL-URL:https://gruene-vorpommern-greifswald.de
X-WR-CALDESC:Veranstaltungen für Grüne Vorpommern-Greifswald
REFRESH-INTERVAL;VALUE=DURATION:PT1H
X-Robots-Tag:noindex
X-PUBLISHED-TTL:PT1H
BEGIN:VTIMEZONE
TZID:Europe/Berlin
BEGIN:DAYLIGHT
TZOFFSETFROM:+0100
TZOFFSETTO:+0200
TZNAME:CEST
DTSTART:20250330T010000
END:DAYLIGHT
BEGIN:STANDARD
TZOFFSETFROM:+0200
TZOFFSETTO:+0100
TZNAME:CET
DTSTART:20251026T010000
END:STANDARD
BEGIN:DAYLIGHT
TZOFFSETFROM:+0100
TZOFFSETTO:+0200
TZNAME:CEST
DTSTART:20260329T010000
END:DAYLIGHT
BEGIN:STANDARD
TZOFFSETFROM:+0200
TZOFFSETTO:+0100
TZNAME:CET
DTSTART:20261025T010000
END:STANDARD
BEGIN:DAYLIGHT
TZOFFSETFROM:+0100
TZOFFSETTO:+0200
TZNAME:CEST
DTSTART:20270328T010000
END:DAYLIGHT
BEGIN:STANDARD
TZOFFSETFROM:+0200
TZOFFSETTO:+0100
TZNAME:CET
DTSTART:20271031T010000
END:STANDARD
END:VTIMEZONE
BEGIN:VEVENT
DTSTART;TZID=Europe/Berlin:20260429T193000
DTEND;TZID=Europe/Berlin:20260429T220000
DTSTAMP:20260421T120430
CREATED:20260109T192446Z
LAST-MODIFIED:20260109T192446Z
UID:6458-1777491000-1777500000@gruene-vorpommern-greifswald.de
SUMMARY:Kreisvorstandssitzung
DESCRIPTION:
URL:https://gruene-vorpommern-greifswald.de/veranstaltungen/kreisvorstandssitzung-19/
LOCATION:Grünes Büro Greifswald\, Mühlenstraße 25-26\, Greifswald\, 17489\, Germany
CATEGORIES:Kreisvorstand
END:VEVENT
BEGIN:VEVENT
DTSTART;TZID=Europe/Berlin:20260518T193000
DTEND;TZID=Europe/Berlin:20260518T220000
DTSTAMP:20260421T120430
CREATED:20260109T193127Z
LAST-MODIFIED:20260109T193127Z
UID:6462-1779132600-1779141600@gruene-vorpommern-greifswald.de
SUMMARY:Kreisvorstandssitzung
DESCRIPTION:
URL:https://gruene-vorpommern-greifswald.de/veranstaltungen/kreisvorstandssitzung-21/
LOCATION:Grünes Büro Greifswald\, Mühlenstraße 25-26\, Greifswald\, 17489\, Germany
CATEGORIES:Kreisvorstand
END:VEVENT
BEGIN:VEVENT
DTSTART;TZID=Europe/Berlin:20260610T193000
DTEND;TZID=Europe/Berlin:20260610T210000
DTSTAMP:20260421T120430
CREATED:20260109T192814Z
LAST-MODIFIED:20260109T192814Z
UID:6460-1781119800-1781125200@gruene-vorpommern-greifswald.de
SUMMARY:Kreisvorstandssitzung
DESCRIPTION:
URL:https://gruene-vorpommern-greifswald.de/veranstaltungen/kreisvorstandssitzung-20/
LOCATION:Grünes Büro Greifswald\, Mühlenstraße 25-26\, Greifswald\, 17489\, Germany
CATEGORIES:Kreisvorstand
END:VEVENT
BEGIN:VEVENT
DTSTART;TZID=Europe/Berlin:20260629T193000
DTEND;TZID=Europe/Berlin:20260629T220000
DTSTAMP:20260421T120430
CREATED:20260109T193340Z
LAST-MODIFIED:20260109T193340Z
UID:6464-1782761400-1782770400@gruene-vorpommern-greifswald.de
SUMMARY:Kreisvorstandssitzung
DESCRIPTION:
URL:https://gruene-vorpommern-greifswald.de/veranstaltungen/kreisvorstandssitzung-22/
LOCATION:Grünes Büro Greifswald\, Mühlenstraße 25-26\, Greifswald\, 17489\, Germany
CATEGORIES:Kreisvorstand
END:VEVENT
BEGIN:VEVENT
DTSTART;TZID=Europe/Berlin:20260722T193000
DTEND;TZID=Europe/Berlin:20260722T220000
DTSTAMP:20260421T120430
CREATED:20260109T193539Z
LAST-MODIFIED:20260109T193539Z
UID:6466-1784748600-1784757600@gruene-vorpommern-greifswald.de
SUMMARY:Kreisvorstandssitzung
DESCRIPTION:
URL:https://gruene-vorpommern-greifswald.de/veranstaltungen/kreisvorstandssitzung-23/
LOCATION:Grünes Büro Greifswald\, Mühlenstraße 25-26\, Greifswald\, 17489\, Germany
CATEGORIES:Kreisvorstand
END:VEVENT
BEGIN:VEVENT
DTSTART;TZID=Europe/Berlin:20260810T193000
DTEND;TZID=Europe/Berlin:20260810T220000
DTSTAMP:20260421T120430
CREATED:20260109T193839Z
LAST-MODIFIED:20260109T193839Z
UID:6468-1786390200-1786399200@gruene-vorpommern-greifswald.de
SUMMARY:Kreisvorstandssitzung
DESCRIPTION:
URL:https://gruene-vorpommern-greifswald.de/veranstaltungen/kreisvorstandssitzung-24/
LOCATION:Grünes Büro Greifswald\, Mühlenstraße 25-26\, Greifswald\, 17489\, Germany
CATEGORIES:Kreisvorstand
END:VEVENT
BEGIN:VEVENT
DTSTART;TZID=Europe/Berlin:20260902T193000
DTEND;TZID=Europe/Berlin:20260902T220000
DTSTAMP:20260421T120430
CREATED:20260109T194040Z
LAST-MODIFIED:20260109T194040Z
UID:6470-1788377400-1788386400@gruene-vorpommern-greifswald.de
SUMMARY:Kreisvorstandssitzung
DESCRIPTION:
URL:https://gruene-vorpommern-greifswald.de/veranstaltungen/kreisvorstandssitzung-25/
LOCATION:Grünes Büro Greifswald\, Mühlenstraße 25-26\, Greifswald\, 17489\, Germany
CATEGORIES:Kreisvorstand
END:VEVENT
BEGIN:VEVENT
DTSTART;TZID=Europe/Berlin:20260921T193000
DTEND;TZID=Europe/Berlin:20260921T220000
DTSTAMP:20260421T120430
CREATED:20260109T194242Z
LAST-MODIFIED:20260109T194242Z
UID:6472-1790019000-1790028000@gruene-vorpommern-greifswald.de
SUMMARY:Kreisvorstandssitzung
DESCRIPTION:
URL:https://gruene-vorpommern-greifswald.de/veranstaltungen/kreisvorstandssitzung-26/
LOCATION:Grünes Büro Greifswald\, Mühlenstraße 25-26\, Greifswald\, 17489\, Germany
CATEGORIES:Kreisvorstand
END:VEVENT
BEGIN:VEVENT
DTSTART;TZID=Europe/Berlin:20261014T193000
DTEND;TZID=Europe/Berlin:20261014T220000
DTSTAMP:20260421T120430
CREATED:20260109T194416Z
LAST-MODIFIED:20260109T194416Z
UID:6474-1792006200-1792015200@gruene-vorpommern-greifswald.de
SUMMARY:Kreisvorstandssitzung
DESCRIPTION:
URL:https://gruene-vorpommern-greifswald.de/veranstaltungen/kreisvorstandssitzung-27/
LOCATION:Grünes Büro Greifswald\, Mühlenstraße 25-26\, Greifswald\, 17489\, Germany
CATEGORIES:Kreisvorstand
END:VEVENT
BEGIN:VEVENT
DTSTART;TZID=Europe/Berlin:20261102T193000
DTEND;TZID=Europe/Berlin:20261102T220000
DTSTAMP:20260421T120430
CREATED:20260109T194615Z
LAST-MODIFIED:20260109T194615Z
UID:6476-1793647800-1793656800@gruene-vorpommern-greifswald.de
SUMMARY:Kreisvorstandssitzung
DESCRIPTION:
URL:https://gruene-vorpommern-greifswald.de/veranstaltungen/kreisvorstandssitzung-28/
LOCATION:Grünes Büro Greifswald\, Mühlenstraße 25-26\, Greifswald\, 17489\, Germany
CATEGORIES:Kreisvorstand
END:VEVENT
END:VCALENDAR