BEGIN:VCALENDAR
VERSION:2.0
PRODID:-//Grüne Vorpommern-Greifswald - ECPv6.15.20//NONSGML v1.0//EN
CALSCALE:GREGORIAN
METHOD:PUBLISH
X-WR-CALNAME:Grüne Vorpommern-Greifswald
X-ORIGINAL-URL:https://gruene-vorpommern-greifswald.de
X-WR-CALDESC:Veranstaltungen für Grüne Vorpommern-Greifswald
REFRESH-INTERVAL;VALUE=DURATION:PT1H
X-Robots-Tag:noindex
X-PUBLISHED-TTL:PT1H
BEGIN:VTIMEZONE
TZID:Europe/Berlin
BEGIN:DAYLIGHT
TZOFFSETFROM:+0100
TZOFFSETTO:+0200
TZNAME:CEST
DTSTART:20240331T010000
END:DAYLIGHT
BEGIN:STANDARD
TZOFFSETFROM:+0200
TZOFFSETTO:+0100
TZNAME:CET
DTSTART:20241027T010000
END:STANDARD
BEGIN:DAYLIGHT
TZOFFSETFROM:+0100
TZOFFSETTO:+0200
TZNAME:CEST
DTSTART:20250330T010000
END:DAYLIGHT
BEGIN:STANDARD
TZOFFSETFROM:+0200
TZOFFSETTO:+0100
TZNAME:CET
DTSTART:20251026T010000
END:STANDARD
BEGIN:DAYLIGHT
TZOFFSETFROM:+0100
TZOFFSETTO:+0200
TZNAME:CEST
DTSTART:20260329T010000
END:DAYLIGHT
BEGIN:STANDARD
TZOFFSETFROM:+0200
TZOFFSETTO:+0100
TZNAME:CET
DTSTART:20261025T010000
END:STANDARD
BEGIN:DAYLIGHT
TZOFFSETFROM:+0100
TZOFFSETTO:+0200
TZNAME:CEST
DTSTART:20270328T010000
END:DAYLIGHT
BEGIN:STANDARD
TZOFFSETFROM:+0200
TZOFFSETTO:+0100
TZNAME:CET
DTSTART:20271031T010000
END:STANDARD
END:VTIMEZONE
BEGIN:VEVENT
DTSTART;TZID=Europe/Berlin:20260420T200000
DTEND;TZID=Europe/Berlin:20260420T213000
DTSTAMP:20260421T103620
CREATED:20260411T101124Z
LAST-MODIFIED:20260411T101124Z
UID:6845-1776715200-1776720600@gruene-vorpommern-greifswald.de
SUMMARY:Grüner Stammtisch
DESCRIPTION:Du hast Lust\, uns kennenzulernen und in entspannter Runde mitzudiskutieren? Dann komm zu unserem Grünen Stammtisch! \nWir treffen uns um 20:00 Uhr im Restaurant „Sofa“ in der Brüggstraße. Egal ob du einfach nur zuhören\, Fragen stellen oder deine eigenen Ideen einbringen willst\, du bist herzlich willkommen. \nWir freuen uns auf dich!
URL:https://gruene-vorpommern-greifswald.de/veranstaltungen/gruener-stammtisch-5/
LOCATION:Restaurant „Sofa“\, Brüggstraße 29\, Greifswald\, Mecklenburg-Vorpommern\, 17489\, Germany
CATEGORIES:Kreisvorstand
END:VEVENT
BEGIN:VEVENT
DTSTART;TZID=Europe/Berlin:20260420T180000
DTEND;TZID=Europe/Berlin:20260420T200000
DTSTAMP:20260421T103620
CREATED:20260325T193014Z
LAST-MODIFIED:20260413T064847Z
UID:6763-1776708000-1776715200@gruene-vorpommern-greifswald.de
SUMMARY:Klimaschutzkonferenz der Bürgerschaftsfraktion
DESCRIPTION:Unsere bündnisgrüne Bürgerschaftsfraktion lädt am Montag 20.04.2026 um 18 Uhr im Bürgerschaftssaal (Greifswalder Rathaus) zu einer Veranstaltung zum Klimaschutz in Greifswald ein. Es werden Projekte gepitched\, aber vor allem sollen EinwohnerInnen und AkteurInnen zu Wort kommen und Ideen vorbringen können.\n\nDie Greifswalder Klimaziele wurden ausgebremst. Wie können wir trotzdem schneller vorankommen? Wir wollen diskutieren\, wo beim Klimaschutz jetzt mehr Tempo nötig ist und welche Lösungen es geben kann.\n\n\nVier Themen – kurze Pitches – offene Diskussion\, Perspektiven einbringen!\n\nWärmeplanung – Robert Kauert (Stadtwerke HGW)\nErneuerbare Energien – Frank Haney (Inselwerke)\nElektromobilität – Stefan Schöler (Stadtwerke HST)\nNachhaltiges Bauen – Anke Parson (betaport)
URL:https://gruene-vorpommern-greifswald.de/veranstaltungen/klimakonferenz-der-buergerschaft/
LOCATION:Bürgerschaftssaal Greifswalder Rathaus
CATEGORIES:Kreisvorstand
END:VEVENT
BEGIN:VEVENT
DTSTART;TZID=Europe/Berlin:20260414T150000
DTEND;TZID=Europe/Berlin:20260414T170000
DTSTAMP:20260421T103620
CREATED:20260325T184513Z
LAST-MODIFIED:20260407T103130Z
UID:6761-1776178800-1776186000@gruene-vorpommern-greifswald.de
SUMMARY:Kreismitgliederversammlung
DESCRIPTION:Die Versammlung ist öffentlich.
URL:https://gruene-vorpommern-greifswald.de/veranstaltungen/kreismitgliederversammlung-4/
LOCATION:Mecklenburg-Vorpommern
CATEGORIES:Kreisvorstand
END:VEVENT
BEGIN:VEVENT
DTSTART;TZID=Europe/Berlin:20260216T190000
DTEND;TZID=Europe/Berlin:20260216T210000
DTSTAMP:20260421T103620
CREATED:20260109T191503Z
LAST-MODIFIED:20260109T191503Z
UID:6448-1771268400-1771275600@gruene-vorpommern-greifswald.de
SUMMARY:Grüner Stammtisch
DESCRIPTION:
URL:https://gruene-vorpommern-greifswald.de/veranstaltungen/gruener-stammtisch-4/
LOCATION:Grünes Büro Greifswald\, Mühlenstraße 25-26\, Greifswald\, 17489\, Germany
CATEGORIES:Kreisvorstand
END:VEVENT
BEGIN:VEVENT
DTSTART;TZID=Europe/Berlin:20260211T170000
DTEND;TZID=Europe/Berlin:20260211T183000
DTSTAMP:20260421T103620
CREATED:20260113T195255Z
LAST-MODIFIED:20260113T195255Z
UID:6492-1770829200-1770834600@gruene-vorpommern-greifswald.de
SUMMARY:Bastelnachmittag
DESCRIPTION:
URL:https://gruene-vorpommern-greifswald.de/veranstaltungen/bastelnachmittag/
LOCATION:Grünes Büro Greifswald\, Mühlenstraße 25-26\, Greifswald\, 17489\, Germany
CATEGORIES:Kreisvorstand
END:VEVENT
BEGIN:VEVENT
DTSTART;TZID=Europe/Berlin:20260204T193000
DTEND;TZID=Europe/Berlin:20260204T220000
DTSTAMP:20260421T103620
CREATED:20260107T200148Z
LAST-MODIFIED:20260107T200148Z
UID:6446-1770233400-1770242400@gruene-vorpommern-greifswald.de
SUMMARY:Kreisvorstandssitzung
DESCRIPTION:
URL:https://gruene-vorpommern-greifswald.de/veranstaltungen/kreisvorstandssitzung-14/
LOCATION:Grünes Büro Greifswald\, Mühlenstraße 25-26\, Greifswald\, 17489\, Germany
CATEGORIES:Kreisvorstand
END:VEVENT
BEGIN:VEVENT
DTSTART;TZID=Europe/Berlin:20260119T190000
DTEND;TZID=Europe/Berlin:20260119T210000
DTSTAMP:20260421T103620
CREATED:20260107T195605Z
LAST-MODIFIED:20260107T195605Z
UID:6442-1768849200-1768856400@gruene-vorpommern-greifswald.de
SUMMARY:Grüner Stammtisch im Sofa
DESCRIPTION:
URL:https://gruene-vorpommern-greifswald.de/veranstaltungen/gruener-stammtisch-im-sofa/
LOCATION:Restaurant „Sofa“\, Brüggstraße 29\, Greifswald\, Mecklenburg-Vorpommern\, 17489\, Germany
CATEGORIES:Kreisvorstand
END:VEVENT
BEGIN:VEVENT
DTSTART;TZID=Europe/Berlin:20260119T180000
DTEND;TZID=Europe/Berlin:20260119T190000
DTSTAMP:20260421T103620
CREATED:20260107T195446Z
LAST-MODIFIED:20260107T195446Z
UID:6440-1768845600-1768849200@gruene-vorpommern-greifswald.de
SUMMARY:Treffen vor dem Stammtisch
DESCRIPTION:Wir möchten mit euch über die anstehende LDK am 24. Januar in Schwerin sprechen. Kommt vorbei uns bringt all eure Fragen mit!
URL:https://gruene-vorpommern-greifswald.de/veranstaltungen/treffen-vor-dem-stammtisch/
LOCATION:Grünes Büro Greifswald\, Mühlenstraße 25-26\, Greifswald\, 17489\, Germany
CATEGORIES:Kreisvorstand
END:VEVENT
BEGIN:VEVENT
DTSTART;TZID=Europe/Berlin:20260115T180000
DTEND;TZID=Europe/Berlin:20260115T210000
DTSTAMP:20260421T103620
CREATED:20260107T195859Z
LAST-MODIFIED:20260107T195859Z
UID:6444-1768500000-1768510800@gruene-vorpommern-greifswald.de
SUMMARY:Kreismitgliederversammlung
DESCRIPTION:
URL:https://gruene-vorpommern-greifswald.de/veranstaltungen/kreismitgliederversammlung-3/
LOCATION:Grünes Büro Greifswald\, Mühlenstraße 25-26\, Greifswald\, 17489\, Germany
CATEGORIES:Kreisvorstand
END:VEVENT
BEGIN:VEVENT
DTSTART;TZID=Europe/Berlin:20260112T193000
DTEND;TZID=Europe/Berlin:20260112T220000
DTSTAMP:20260421T103620
CREATED:20260107T195249Z
LAST-MODIFIED:20260107T195249Z
UID:6438-1768246200-1768255200@gruene-vorpommern-greifswald.de
SUMMARY:Kreisvorstandssitzung
DESCRIPTION:
URL:https://gruene-vorpommern-greifswald.de/veranstaltungen/kreisvorstandssitzung-13/
LOCATION:Grünes Büro Greifswald\, Mühlenstraße 25-26\, Greifswald\, 17489\, Germany
CATEGORIES:Kreisvorstand
END:VEVENT
BEGIN:VEVENT
DTSTART;TZID=Europe/Berlin:20251210T183000
DTEND;TZID=Europe/Berlin:20251210T203000
DTSTAMP:20260421T103620
CREATED:20251110T184113Z
LAST-MODIFIED:20251110T184113Z
UID:6359-1765391400-1765398600@gruene-vorpommern-greifswald.de
SUMMARY:Weihnachts-Kreismitgliederversammlung
DESCRIPTION:
URL:https://gruene-vorpommern-greifswald.de/veranstaltungen/weihnachts-kreismitgliederversammlung/
LOCATION:Grünes Büro Greifswald\, Mühlenstraße 25-26\, Greifswald\, 17489\, Germany
CATEGORIES:Kreisvorstand
END:VEVENT
BEGIN:VEVENT
DTSTART;TZID=Europe/Berlin:20251205T180000
DTEND;TZID=Europe/Berlin:20251205T200000
DTSTAMP:20260421T103620
CREATED:20251110T183846Z
LAST-MODIFIED:20251110T183846Z
UID:6357-1764957600-1764964800@gruene-vorpommern-greifswald.de
SUMMARY:Grüner Stammtisch Neuenkirchen
DESCRIPTION:
URL:https://gruene-vorpommern-greifswald.de/veranstaltungen/gruener-stammtisch-neuenkirchen/
LOCATION:Hotel Stettiner Hof\, Theodor-Körner-Straße 20\, Neuenkirchen\, Mecklenburg-Vorpommern\, 17498\, Germany
CATEGORIES:Kreisvorstand
END:VEVENT
BEGIN:VEVENT
DTSTART;TZID=Europe/Berlin:20251203T173000
DTEND;TZID=Europe/Berlin:20251203T203000
DTSTAMP:20260421T103620
CREATED:20251126T185020Z
LAST-MODIFIED:20251126T185020Z
UID:6390-1764783000-1764793800@gruene-vorpommern-greifswald.de
SUMMARY:Grüner Stammtisch auf dem Land
DESCRIPTION:Wir laden herzlich ein zum ersten grünen Stammtisch im südlichen Teil unseres Landkreises (südlich und westlich von Anklam). \nDer Stammtisch bietet die Möglichkeit\, sich in gemütlicher Atmosphäre kennenzulernen und über verschiedene Themen mit und ohne Bezug zum ländlichen Raum ins Gespräch zu kommen. Grüne Mitglieder aus anderen Teilen des Landkreises sind ebenfalls herzlich willkommen. Der Stammtisch ist offen für an grüner Politik Interessierte. Bringt also gerne Freunde\, Bekannte oder Verwandte mit. \nEine Anmeldung ist nicht erforderlich. Eine kurze Info zu Eurer Teilnahme würde uns aber bei der Planung von Getränken und Snacks helfen. \nWir freuen uns auf Euch. \nKontakt auch für Fragen: silke.kleinhueckelkotten@vg-greifswald.de \nEine Anreise mit öffentlichen Verkehrsmitteln nach Bugewitz ist leider nicht möglich. Es kann aber ein Shuttle von und nach Ducherow organisiert werden (Ankunft der Züge in Richtung Pasewalk: 17:16 Uhr\, in Richtung Greifswald: 17:30 Uhr) – bei Bedarf bitte ebenfalls unter der obigen E-Mail-Adresse melden.
URL:https://gruene-vorpommern-greifswald.de/veranstaltungen/gruener-stammtisch-auf-dem-land/
LOCATION:NaturKulturHaus\, Dorfstraße 24/25\, Bugewitz\, Mecklenburg-Vorpommern\, 17398\, Germany
CATEGORIES:Kreisvorstand
END:VEVENT
BEGIN:VEVENT
DTSTART;TZID=Europe/Berlin:20251201T183000
DTEND;TZID=Europe/Berlin:20251201T200000
DTSTAMP:20260421T103620
CREATED:20250915T184036Z
LAST-MODIFIED:20251127T182151Z
UID:6205-1764613800-1764619200@gruene-vorpommern-greifswald.de
SUMMARY:Kreisvorstandssitzung
DESCRIPTION:
URL:https://gruene-vorpommern-greifswald.de/veranstaltungen/kreisvorstandssitzung-12/
LOCATION:Grünes Büro Greifswald\, Mühlenstraße 25-26\, Greifswald\, 17489\, Germany
CATEGORIES:Kreisvorstand
END:VEVENT
BEGIN:VEVENT
DTSTART;TZID=Europe/Berlin:20251201T180000
DTEND;TZID=Europe/Berlin:20251201T183000
DTSTAMP:20260421T103620
CREATED:20251126T184411Z
LAST-MODIFIED:20251127T182058Z
UID:6385-1764612000-1764613800@gruene-vorpommern-greifswald.de
SUMMARY:Abendbrotschnack zur Kommunalpolitik
DESCRIPTION:Habt ihr Fragen zur Kommunalpolitik oder Interesse an Aktuellem aus Kreistag und Bürgerschaft oder wollt ihr unsere grünen Vertreter:innen dort kennen lernen? Oder wollt ihr euch in der Kommunalpolitik einbringen und unsere Fraktionen dort unterstützen? \nDann kommt vorbei! \nWir freuen uns auf eine Gesprächsrunde mit euch und einigen unserer grünen  Kreistags- und Bürgerschaftsmitgliedern!
URL:https://gruene-vorpommern-greifswald.de/veranstaltungen/abendbrotschnack-zur-kommunalpolitik/
LOCATION:Grünes Büro Greifswald\, Mühlenstraße 25-26\, Greifswald\, 17489\, Germany
CATEGORIES:Bürgerschaft,Kreistag,Kreisvorstand
END:VEVENT
BEGIN:VEVENT
DTSTART;TZID=Europe/Berlin:20251121T163000
DTEND;TZID=Europe/Berlin:20251121T180000
DTSTAMP:20260421T103620
CREATED:20251119T193616Z
LAST-MODIFIED:20251119T193616Z
UID:6380-1763742600-1763748000@gruene-vorpommern-greifswald.de
SUMMARY:Nachhaltiger Bastelnachmittag für Familien
DESCRIPTION:Wollt ihr die Adventszeit nicht nur besinnlich\, sondern auch nachhaltig gestalten? Die Grünen in Vorpommern-Greifswald laden zu einem kreativen Bastelnachmittag für Familien ein. Bringt sehr gerne eure Kinder mit – die Erwachsenen dürfen natürlich auch mitbasteln! \nNeben dem Basteln wird es Raum geben\, um über eure Gedanken und Wünsche zur Familien- und Bildungspolitik in Mecklenburg-Vorpommern zu sprechen. Unsere Kandidatin für den Landtag aus Vorpommern\, Maya Tischler\, ist auch dabei und freut sich auf den Austausch. \n Für Bastelmaterial\, Kekse und Punsch ist gesorgt. Eine Anmeldung ist nicht notwendig.
URL:https://gruene-vorpommern-greifswald.de/veranstaltungen/nachhaltiger-bastelnachmittag-fuer-familien/
LOCATION:Grünes Büro Greifswald\, Mühlenstraße 25-26\, Greifswald\, 17489\, Germany
CATEGORIES:Kreisvorstand
END:VEVENT
BEGIN:VEVENT
DTSTART;TZID=Europe/Berlin:20251117T193000
DTEND;TZID=Europe/Berlin:20251117T213000
DTSTAMP:20260421T103620
CREATED:20250915T183854Z
LAST-MODIFIED:20251027T182551Z
UID:6203-1763407800-1763415000@gruene-vorpommern-greifswald.de
SUMMARY:Kreisvorstandssitzung
DESCRIPTION:
URL:https://gruene-vorpommern-greifswald.de/veranstaltungen/kreisvorstandssitzung-11/
LOCATION:Grünes Büro Greifswald\, Mühlenstraße 25-26\, Greifswald\, 17489\, Germany
CATEGORIES:Kreisvorstand
END:VEVENT
BEGIN:VEVENT
DTSTART;TZID=Europe/Berlin:20251110T190000
DTEND;TZID=Europe/Berlin:20251110T210000
DTSTAMP:20260421T103620
CREATED:20251105T191511Z
LAST-MODIFIED:20251105T191511Z
UID:6338-1762801200-1762808400@gruene-vorpommern-greifswald.de
SUMMARY:Grüner Stammtisch
DESCRIPTION:
URL:https://gruene-vorpommern-greifswald.de/veranstaltungen/gruener-stammtisch-3/
LOCATION:Restaurant „Sofa“\, Brüggstraße 29\, Greifswald\, Mecklenburg-Vorpommern\, 17489\, Germany
CATEGORIES:Kreisvorstand
END:VEVENT
BEGIN:VEVENT
DTSTART;TZID=Europe/Berlin:20251103T180000
DTEND;TZID=Europe/Berlin:20251103T200000
DTSTAMP:20260421T103620
CREATED:20250915T183737Z
LAST-MODIFIED:20251027T182513Z
UID:6201-1762192800-1762200000@gruene-vorpommern-greifswald.de
SUMMARY:Kreisvorstandssitzung
DESCRIPTION:
URL:https://gruene-vorpommern-greifswald.de/veranstaltungen/kreisvorstandssitzung-7/
LOCATION:Grünes Büro Greifswald\, Mühlenstraße 25-26\, Greifswald\, 17489\, Germany
CATEGORIES:Kreisvorstand
END:VEVENT
BEGIN:VEVENT
DTSTART;TZID=Europe/Berlin:20251031T160000
DTEND;TZID=Europe/Berlin:20251031T170000
DTSTAMP:20260421T103620
CREATED:20251029T202059Z
LAST-MODIFIED:20251029T202059Z
UID:6319-1761926400-1761930000@gruene-vorpommern-greifswald.de
SUMMARY:Führung durch die Innenstadt mit unserem Oberbürgermeister Stefan Fassbinder
DESCRIPTION:
URL:https://gruene-vorpommern-greifswald.de/veranstaltungen/fuehrung-durch-die-innenstadt-mit-unserem-oberbuergermeister-stefan-fassbinder/
LOCATION:Grünes Büro Greifswald\, Mühlenstraße 25-26\, Greifswald\, 17489\, Germany
END:VEVENT
BEGIN:VEVENT
DTSTART;VALUE=DATE:20251029
DTEND;VALUE=DATE:20251030
DTSTAMP:20260421T103620
CREATED:20251009T181528Z
LAST-MODIFIED:20251009T181958Z
UID:6310-1761696000-1761782399@gruene-vorpommern-greifswald.de
SUMMARY:Landtagsfahrt
DESCRIPTION:Seit Oktober 2021 ist Hannes Damm Mitglied des Landtags Mecklenburg-Vorpommern und der Fraktion BÜNDNIS 90/DIE GRÜNEN. Interessierte Gruppen haben die Möglichkeit\, den Landtag zu besuchen\, um mehr über die parlamentarische Arbeit\, die Aufgaben eines Abgeordneten sowie den Ablauf einer Landtagssitzung zu erfahren und mit dem Abgeordneten persönlich ins Gespräch zu kommen.
URL:https://gruene-vorpommern-greifswald.de/veranstaltungen/landtagsfahrt/
LOCATION:Mecklenburg-Vorpommern
END:VEVENT
BEGIN:VEVENT
DTSTART;TZID=Europe/Berlin:20251020T193000
DTEND;TZID=Europe/Berlin:20251020T213000
DTSTAMP:20260421T103620
CREATED:20251008T191925Z
LAST-MODIFIED:20251008T191925Z
UID:6308-1760988600-1760995800@gruene-vorpommern-greifswald.de
SUMMARY:Kreisvorstandssitzung
DESCRIPTION:
URL:https://gruene-vorpommern-greifswald.de/veranstaltungen/kreisvorstandssitzung-15/
LOCATION:Grünes Büro Greifswald\, Mühlenstraße 25-26\, Greifswald\, 17489\, Germany
CATEGORIES:Kreisvorstand
END:VEVENT
BEGIN:VEVENT
DTSTART;TZID=Europe/Berlin:20251013T190000
DTEND;TZID=Europe/Berlin:20251013T210000
DTSTAMP:20260421T103620
CREATED:20251007T192214Z
LAST-MODIFIED:20251007T192214Z
UID:6268-1760382000-1760389200@gruene-vorpommern-greifswald.de
SUMMARY:Grüner Stammtisch
DESCRIPTION:Hiermit möchten wir euch herzlich zu einem weiteren Grünen Stammtisch einladen\, wo wir uns in gemütlicher Runde austauschen und besser kennen lernen können. Hier könnt ihr miteinander ins Gespräch kommen\, Fragen stellen\, Ideen einbringen und aktuelle Entwicklungen zwanglos diskutieren.\n\nWir freuen uns auf den Austausch mit euch!
URL:https://gruene-vorpommern-greifswald.de/veranstaltungen/gruener-stammtisch-2/
LOCATION:Restaurant „Sofa“\, Brüggstraße 29\, Greifswald\, Mecklenburg-Vorpommern\, 17489\, Germany
CATEGORIES:Kreisvorstand
END:VEVENT
BEGIN:VEVENT
DTSTART;TZID=Europe/Berlin:20251010T180000
DTEND;TZID=Europe/Berlin:20251010T210000
DTSTAMP:20260421T103620
CREATED:20251007T183357Z
LAST-MODIFIED:20251007T183357Z
UID:6266-1760119200-1760130000@gruene-vorpommern-greifswald.de
SUMMARY:Zukunftswerkstatt Vorpommern
DESCRIPTION:Lasst uns gemeinsam überlegen: Welche Themen sind für Vorpommern besonders wichtig? Welche Anliegen müssen unbedingt ins Wahlprogramm? Und wie können wir unsere Region sichtbar und stark machen? Nach der inhaltlichen Runde lassen wir den Abend entspannt ausklingen – mit Spielen\, Gesprächen und gemütlichem Beisammensein.
URL:https://gruene-vorpommern-greifswald.de/veranstaltungen/zukunftswerkstatt-vorpommern/
LOCATION:Knieperstraße 18\, Knieperstraße 18\, Stralsund\, Mecklenburg-Vorpommern\, 18439\, Germany
CATEGORIES:Kreisvorstand
END:VEVENT
BEGIN:VEVENT
DTSTART;TZID=Europe/Berlin:20251006T193000
DTEND;TZID=Europe/Berlin:20251006T213000
DTSTAMP:20260421T103620
CREATED:20250915T183408Z
LAST-MODIFIED:20250915T183408Z
UID:6197-1759779000-1759786200@gruene-vorpommern-greifswald.de
SUMMARY:Kreisvorstandssitzung
DESCRIPTION:
URL:https://gruene-vorpommern-greifswald.de/veranstaltungen/kreisvorstandssitzung-3/
LOCATION:Grünes Büro Greifswald\, Mühlenstraße 25-26\, Greifswald\, 17489\, Germany
CATEGORIES:Kreisvorstand
END:VEVENT
BEGIN:VEVENT
DTSTART;TZID=Europe/Berlin:20250927T100000
DTEND;TZID=Europe/Berlin:20250928T160000
DTSTAMP:20260421T103620
CREATED:20250619T174327Z
LAST-MODIFIED:20250701T145246Z
UID:5851-1758967200-1759075200@gruene-vorpommern-greifswald.de
SUMMARY:Landesdelegiertenkonferenz
DESCRIPTION:
URL:https://gruene-vorpommern-greifswald.de/veranstaltungen/landesdelegiertenkonferenz-2/
LOCATION:Mecklenburg-Vorpommern
CATEGORIES:Kreisvorstand
END:VEVENT
BEGIN:VEVENT
DTSTART;TZID=Europe/Berlin:20250925T183000
DTEND;TZID=Europe/Berlin:20250925T213000
DTSTAMP:20260421T103620
CREATED:20250918T185838Z
LAST-MODIFIED:20250918T210329Z
UID:6211-1758825000-1758835800@gruene-vorpommern-greifswald.de
SUMMARY:Stammtisch mit Jutta Paulus\, Europaabgeordnete
DESCRIPTION:Thema ist die aktuelle Entwicklung im europäischen Umweltschutz.
URL:https://gruene-vorpommern-greifswald.de/veranstaltungen/stammtisch-mit-unserer-europaabgeordneten-jutta-paulus/
LOCATION:Restaurant „Sofa“\, Brüggstraße 29\, Greifswald\, Mecklenburg-Vorpommern\, 17489\, Germany
CATEGORIES:Kreisvorstand
END:VEVENT
BEGIN:VEVENT
DTSTART;TZID=Europe/Berlin:20250922T193000
DTEND;TZID=Europe/Berlin:20250922T213000
DTSTAMP:20260421T103620
CREATED:20250708T185216Z
LAST-MODIFIED:20250915T183052Z
UID:5983-1758569400-1758576600@gruene-vorpommern-greifswald.de
SUMMARY:Kreisvorstandssitzung
DESCRIPTION:
URL:https://gruene-vorpommern-greifswald.de/veranstaltungen/kreisvorstandssitzung-6/
LOCATION:Grünes Büro Greifswald\, Mühlenstraße 25-26\, Greifswald\, 17489\, Germany
CATEGORIES:Kreisvorstand
END:VEVENT
BEGIN:VEVENT
DTSTART;TZID=Europe/Berlin:20250915T193000
DTEND;TZID=Europe/Berlin:20250915T213000
DTSTAMP:20260421T103620
CREATED:20250915T183540Z
LAST-MODIFIED:20250915T183540Z
UID:6199-1757964600-1757971800@gruene-vorpommern-greifswald.de
SUMMARY:Kreisvorstandssitzung
DESCRIPTION:
URL:https://gruene-vorpommern-greifswald.de/veranstaltungen/kreisvorstandssitzung-5/
LOCATION:Grünes Büro Greifswald\, Mühlenstraße 25-26\, Greifswald\, 17489\, Germany
CATEGORIES:Kreisvorstand
END:VEVENT
BEGIN:VEVENT
DTSTART;TZID=Europe/Berlin:20250915T190000
DTEND;TZID=Europe/Berlin:20250915T210000
DTSTAMP:20260421T103620
CREATED:20250501T154653Z
LAST-MODIFIED:20250910T205200Z
UID:5340-1757962800-1757970000@gruene-vorpommern-greifswald.de
SUMMARY:Grüner Stammtisch
DESCRIPTION:Hiermit möchten wir euch herzlich zu einem weiteren Grünen Stammtisch am 28. Juli um 19:00 Uhr in das Restaurant „Sofa“ (Brüggstraße 29) einladen\, wo wir uns in gemütlicher Runde austauschen und besser kennen lernen können. Hier könnt ihr miteinander ins Gespräch kommen\, Fragen stellen\, Ideen einbringen und aktuelle Entwicklungen zwanglos diskutieren. \nWir freuen uns auf euch und den Abend!
URL:https://gruene-vorpommern-greifswald.de/veranstaltungen/gruener-stammtisch/
LOCATION:Restaurant „Sofa“\, Brüggstraße 29\, Greifswald\, Mecklenburg-Vorpommern\, 17489\, Germany
CATEGORIES:Kreisvorstand
END:VEVENT
END:VCALENDAR