BEGIN:VCALENDAR
VERSION:2.0
PRODID:-//Grüne Vorpommern-Greifswald - ECPv6.15.20//NONSGML v1.0//EN
CALSCALE:GREGORIAN
METHOD:PUBLISH
X-ORIGINAL-URL:https://gruene-vorpommern-greifswald.de
X-WR-CALDESC:Veranstaltungen für Grüne Vorpommern-Greifswald
REFRESH-INTERVAL;VALUE=DURATION:PT1H
X-Robots-Tag:noindex
X-PUBLISHED-TTL:PT1H
BEGIN:VTIMEZONE
TZID:Europe/Berlin
BEGIN:DAYLIGHT
TZOFFSETFROM:+0100
TZOFFSETTO:+0200
TZNAME:CEST
DTSTART:20240331T010000
END:DAYLIGHT
BEGIN:STANDARD
TZOFFSETFROM:+0200
TZOFFSETTO:+0100
TZNAME:CET
DTSTART:20241027T010000
END:STANDARD
BEGIN:DAYLIGHT
TZOFFSETFROM:+0100
TZOFFSETTO:+0200
TZNAME:CEST
DTSTART:20250330T010000
END:DAYLIGHT
BEGIN:STANDARD
TZOFFSETFROM:+0200
TZOFFSETTO:+0100
TZNAME:CET
DTSTART:20251026T010000
END:STANDARD
BEGIN:DAYLIGHT
TZOFFSETFROM:+0100
TZOFFSETTO:+0200
TZNAME:CEST
DTSTART:20260329T010000
END:DAYLIGHT
BEGIN:STANDARD
TZOFFSETFROM:+0200
TZOFFSETTO:+0100
TZNAME:CET
DTSTART:20261025T010000
END:STANDARD
END:VTIMEZONE
BEGIN:VEVENT
DTSTART;TZID=Europe/Berlin:20251205T180000
DTEND;TZID=Europe/Berlin:20251205T200000
DTSTAMP:20260421T200655
CREATED:20251110T183846Z
LAST-MODIFIED:20251110T183846Z
UID:6357-1764957600-1764964800@gruene-vorpommern-greifswald.de
SUMMARY:Grüner Stammtisch Neuenkirchen
DESCRIPTION:
URL:https://gruene-vorpommern-greifswald.de/veranstaltungen/gruener-stammtisch-neuenkirchen/
LOCATION:Hotel Stettiner Hof\, Theodor-Körner-Straße 20\, Neuenkirchen\, Mecklenburg-Vorpommern\, 17498\, Germany
CATEGORIES:Kreisvorstand
END:VEVENT
END:VCALENDAR