BEGIN:VCALENDAR
VERSION:2.0
PRODID:-//Grüne Vorpommern-Greifswald - ECPv6.15.20//NONSGML v1.0//EN
CALSCALE:GREGORIAN
METHOD:PUBLISH
X-WR-CALNAME:Grüne Vorpommern-Greifswald
X-ORIGINAL-URL:https://gruene-vorpommern-greifswald.de
X-WR-CALDESC:Veranstaltungen für Grüne Vorpommern-Greifswald
REFRESH-INTERVAL;VALUE=DURATION:PT1H
X-Robots-Tag:noindex
X-PUBLISHED-TTL:PT1H
BEGIN:VTIMEZONE
TZID:Europe/Berlin
BEGIN:DAYLIGHT
TZOFFSETFROM:+0100
TZOFFSETTO:+0200
TZNAME:CEST
DTSTART:20240331T010000
END:DAYLIGHT
BEGIN:STANDARD
TZOFFSETFROM:+0200
TZOFFSETTO:+0100
TZNAME:CET
DTSTART:20241027T010000
END:STANDARD
BEGIN:DAYLIGHT
TZOFFSETFROM:+0100
TZOFFSETTO:+0200
TZNAME:CEST
DTSTART:20250330T010000
END:DAYLIGHT
BEGIN:STANDARD
TZOFFSETFROM:+0200
TZOFFSETTO:+0100
TZNAME:CET
DTSTART:20251026T010000
END:STANDARD
BEGIN:DAYLIGHT
TZOFFSETFROM:+0100
TZOFFSETTO:+0200
TZNAME:CEST
DTSTART:20260329T010000
END:DAYLIGHT
BEGIN:STANDARD
TZOFFSETFROM:+0200
TZOFFSETTO:+0100
TZNAME:CET
DTSTART:20261025T010000
END:STANDARD
END:VTIMEZONE
BEGIN:VEVENT
DTSTART;TZID=Europe/Berlin:20250915T190000
DTEND;TZID=Europe/Berlin:20250915T210000
DTSTAMP:20260422T050142
CREATED:20250501T154653Z
LAST-MODIFIED:20250910T205200Z
UID:5340-1757962800-1757970000@gruene-vorpommern-greifswald.de
SUMMARY:Grüner Stammtisch
DESCRIPTION:Hiermit möchten wir euch herzlich zu einem weiteren Grünen Stammtisch am 28. Juli um 19:00 Uhr in das Restaurant „Sofa“ (Brüggstraße 29) einladen\, wo wir uns in gemütlicher Runde austauschen und besser kennen lernen können. Hier könnt ihr miteinander ins Gespräch kommen\, Fragen stellen\, Ideen einbringen und aktuelle Entwicklungen zwanglos diskutieren. \nWir freuen uns auf euch und den Abend!
URL:https://gruene-vorpommern-greifswald.de/veranstaltungen/gruener-stammtisch/
LOCATION:Restaurant „Sofa“\, Brüggstraße 29\, Greifswald\, Mecklenburg-Vorpommern\, 17489\, Germany
CATEGORIES:Kreisvorstand
END:VEVENT
BEGIN:VEVENT
DTSTART;TZID=Europe/Berlin:20250915T193000
DTEND;TZID=Europe/Berlin:20250915T213000
DTSTAMP:20260422T050142
CREATED:20250915T183540Z
LAST-MODIFIED:20250915T183540Z
UID:6199-1757964600-1757971800@gruene-vorpommern-greifswald.de
SUMMARY:Kreisvorstandssitzung
DESCRIPTION:
URL:https://gruene-vorpommern-greifswald.de/veranstaltungen/kreisvorstandssitzung-5/
LOCATION:Grünes Büro Greifswald\, Mühlenstraße 25-26\, Greifswald\, 17489\, Germany
CATEGORIES:Kreisvorstand
END:VEVENT
END:VCALENDAR