BEGIN:VCALENDAR
VERSION:2.0
PRODID:-//Grüne Vorpommern-Greifswald - ECPv6.15.20//NONSGML v1.0//EN
CALSCALE:GREGORIAN
METHOD:PUBLISH
X-WR-CALNAME:Grüne Vorpommern-Greifswald
X-ORIGINAL-URL:https://gruene-vorpommern-greifswald.de
X-WR-CALDESC:Veranstaltungen für Grüne Vorpommern-Greifswald
REFRESH-INTERVAL;VALUE=DURATION:PT1H
X-Robots-Tag:noindex
X-PUBLISHED-TTL:PT1H
BEGIN:VTIMEZONE
TZID:Europe/Berlin
BEGIN:DAYLIGHT
TZOFFSETFROM:+0100
TZOFFSETTO:+0200
TZNAME:CEST
DTSTART:20240331T010000
END:DAYLIGHT
BEGIN:STANDARD
TZOFFSETFROM:+0200
TZOFFSETTO:+0100
TZNAME:CET
DTSTART:20241027T010000
END:STANDARD
BEGIN:DAYLIGHT
TZOFFSETFROM:+0100
TZOFFSETTO:+0200
TZNAME:CEST
DTSTART:20250330T010000
END:DAYLIGHT
BEGIN:STANDARD
TZOFFSETFROM:+0200
TZOFFSETTO:+0100
TZNAME:CET
DTSTART:20251026T010000
END:STANDARD
BEGIN:DAYLIGHT
TZOFFSETFROM:+0100
TZOFFSETTO:+0200
TZNAME:CEST
DTSTART:20260329T010000
END:DAYLIGHT
BEGIN:STANDARD
TZOFFSETFROM:+0200
TZOFFSETTO:+0100
TZNAME:CET
DTSTART:20261025T010000
END:STANDARD
END:VTIMEZONE
BEGIN:VEVENT
DTSTART;TZID=Europe/Berlin:20250822T180000
DTEND;TZID=Europe/Berlin:20250822T230000
DTSTAMP:20260422T080823
CREATED:20250806T201118Z
LAST-MODIFIED:20250806T201252Z
UID:6129-1755885600-1755903600@gruene-vorpommern-greifswald.de
SUMMARY:Abendbrotschnack Katharina Horn 
DESCRIPTION:Abendbrotschnack mit Katharina im Greifswalder Museumshafen (und bei schlechtem Wetter im Grünen Büro Greifswald)
URL:https://gruene-vorpommern-greifswald.de/veranstaltungen/abendbrotschnack-katharina-horn/
LOCATION:Museumshafen Greifswald\, Hafenstraße 31\, Greifswald\, Mecklenburg-Vorpommern\, 17489
CATEGORIES:Kreisvorstand
END:VEVENT
END:VCALENDAR