BEGIN:VCALENDAR
VERSION:2.0
PRODID:-//Grüne Vorpommern-Greifswald - ECPv6.15.20//NONSGML v1.0//EN
CALSCALE:GREGORIAN
METHOD:PUBLISH
X-ORIGINAL-URL:https://gruene-vorpommern-greifswald.de
X-WR-CALDESC:Veranstaltungen für Grüne Vorpommern-Greifswald
REFRESH-INTERVAL;VALUE=DURATION:PT1H
X-Robots-Tag:noindex
X-PUBLISHED-TTL:PT1H
BEGIN:VTIMEZONE
TZID:Europe/Berlin
BEGIN:DAYLIGHT
TZOFFSETFROM:+0100
TZOFFSETTO:+0200
TZNAME:CEST
DTSTART:20240331T010000
END:DAYLIGHT
BEGIN:STANDARD
TZOFFSETFROM:+0200
TZOFFSETTO:+0100
TZNAME:CET
DTSTART:20241027T010000
END:STANDARD
BEGIN:DAYLIGHT
TZOFFSETFROM:+0100
TZOFFSETTO:+0200
TZNAME:CEST
DTSTART:20250330T010000
END:DAYLIGHT
BEGIN:STANDARD
TZOFFSETFROM:+0200
TZOFFSETTO:+0100
TZNAME:CET
DTSTART:20251026T010000
END:STANDARD
BEGIN:DAYLIGHT
TZOFFSETFROM:+0100
TZOFFSETTO:+0200
TZNAME:CEST
DTSTART:20260329T010000
END:DAYLIGHT
BEGIN:STANDARD
TZOFFSETFROM:+0200
TZOFFSETTO:+0100
TZNAME:CET
DTSTART:20261025T010000
END:STANDARD
END:VTIMEZONE
BEGIN:VEVENT
DTSTART;TZID=Europe/Berlin:20250719T143000
DTEND;TZID=Europe/Berlin:20250719T143000
DTSTAMP:20260422T094808
CREATED:20250619T174038Z
LAST-MODIFIED:20250709T193300Z
UID:5846-1752935400-1752935400@gruene-vorpommern-greifswald.de
SUMMARY:Sommer Kreismitgliederversammlung
DESCRIPTION:Wir laden herzlich zu unserer Sommer Kreismitgliederversammlung am Samstag\, den 19.07.2025\, um 14.30 Uhr in Hohendorf\, im Landgasthof „Neue Heimat“\, Hohendorfer Chaussee 59 17438 Wolgast ein. \nWir schlagen folgende Tagesordnung vor: \n\n\nBegrüßung und Eröffnung \n\n\nFormalia \n\n\nBericht des Vorstandes \n\n\nWahlen der Delegiertenplätze zum Landes-FINTA*-Rat \n\n\nNachbesetzung des offenen Posten der Kreiskassenprüfung \n\n\nVotenvergabe zur Landesliste für die Landtagswahl 2026 \n\n\nGründung der Kreisarbeitsgruppen \n\n\nSonstiges \n\n\nWir freuen uns auf eure Teilnahme!
URL:https://gruene-vorpommern-greifswald.de/veranstaltungen/sommer-kreismitgliederversammlung/
LOCATION:Landgasthof „Neue Heimat“\, Hohendorfer Chaussee 59\, Wolgast\, Mecklenburg-Vorpommern\, 17438\, Germany
CATEGORIES:Kreisvorstand
END:VEVENT
END:VCALENDAR