BEGIN:VCALENDAR
VERSION:2.0
PRODID:-//Grüne Vorpommern-Greifswald - ECPv6.15.20//NONSGML v1.0//EN
CALSCALE:GREGORIAN
METHOD:PUBLISH
X-WR-CALNAME:Grüne Vorpommern-Greifswald
X-ORIGINAL-URL:https://gruene-vorpommern-greifswald.de
X-WR-CALDESC:Veranstaltungen für Grüne Vorpommern-Greifswald
REFRESH-INTERVAL;VALUE=DURATION:PT1H
X-Robots-Tag:noindex
X-PUBLISHED-TTL:PT1H
BEGIN:VTIMEZONE
TZID:Europe/Berlin
BEGIN:DAYLIGHT
TZOFFSETFROM:+0100
TZOFFSETTO:+0200
TZNAME:CEST
DTSTART:20240331T010000
END:DAYLIGHT
BEGIN:STANDARD
TZOFFSETFROM:+0200
TZOFFSETTO:+0100
TZNAME:CET
DTSTART:20241027T010000
END:STANDARD
BEGIN:DAYLIGHT
TZOFFSETFROM:+0100
TZOFFSETTO:+0200
TZNAME:CEST
DTSTART:20250330T010000
END:DAYLIGHT
BEGIN:STANDARD
TZOFFSETFROM:+0200
TZOFFSETTO:+0100
TZNAME:CET
DTSTART:20251026T010000
END:STANDARD
BEGIN:DAYLIGHT
TZOFFSETFROM:+0100
TZOFFSETTO:+0200
TZNAME:CEST
DTSTART:20260329T010000
END:DAYLIGHT
BEGIN:STANDARD
TZOFFSETFROM:+0200
TZOFFSETTO:+0100
TZNAME:CET
DTSTART:20261025T010000
END:STANDARD
END:VTIMEZONE
BEGIN:VEVENT
DTSTART;TZID=Europe/Berlin:20250521T180000
DTEND;TZID=Europe/Berlin:20250521T200000
DTSTAMP:20260422T142112
CREATED:20250515T110006Z
LAST-MODIFIED:20250515T110006Z
UID:5417-1747850400-1747857600@gruene-vorpommern-greifswald.de
SUMMARY:Meinen Strom mache ich selbst
DESCRIPTION:Infoabend der Grünen Bürgerschaftsfraktion und des BUND zu Balkon- und Dach-Solaranlagen \nDie günstigste Stromquelle ist für viele Menschen die eigene Solaranlage. Daher lohnt sich für viele Mieter eine Balkon-Solaranlage und für Hauseigentümer eine größere Solaranlage auf dem Dach. Gleichzeitig sind Solaranlagen ein sinnvoller Beitrag zum Klimaschutz. \nDie Veranstaltung gibt eine Einführung\, wo und wie eine Solaranlage installiert werden kann\, welche Kosten und welcher Ertrag zu erwarten sind. Macht ein Speicher Sinn und wie groß sollte er sein? Diskutiert wird auch\, welche Rolle Schattenwurf\, Auflagen des Denkmalschutzes und Vermieter oder Wohneigentumsgemeinschaften spielen und wie damit umgegangen werden kann. \nDer Referent\, Ulrich Söffker aus Rostock\, betreibt seit über 20 Jahren Solaranlagen und engagiert sich im BUND für die Energiewende. \n21.5.25 um 18 Uhr im Senatssaal des Greifswalder Rathauses am Markt.
URL:https://gruene-vorpommern-greifswald.de/veranstaltungen/meinen-strom-mache-ich-selbst/
LOCATION:Greiswald Rathaus Senatssaal\, Markt\, Greifswald\, 17489\, Germany
CATEGORIES:Bürgerschaft
END:VEVENT
END:VCALENDAR